Workbook

Sheet Comparison Summary
A1: D&L PQ-01 v1.2 - Comparison Summary
A2: Sample IDs: | B2: ='Sample 1'!B4 | C2: ='Sample 2'!B4
A3: Metric | B3: Sample 1 | C3: Sample 2 | D3: Difference (S2-S1) | E3: Interpretation
A4: Overall mean absolute error | B4: =IF(COUNT('Sample 1'!J13,'Sample 1'!J14,'Sample 1'!J15)=0,"",AVERAGE('Sample 1'!J13,'Sample 1'!J14,'Sample 1'!J15)) | C4: =IF(COUNT('Sample 2'!J13,'Sample 2'!J14,'Sample 2'!J15)=0,"",AVERAGE('Sample 2'!J13,'Sample 2'!J14,'Sample 2'!J15)) | D4: =IF(OR(B4="",C4=""),"",C4-B4) | E4: Lower is better; mean magnitude of dimensional error in the group.
A5: Holes mean absolute error | B5: =IF(COUNT('Sample 1'!J16,'Sample 1'!J17,'Sample 1'!J18,'Sample 1'!J19,'Sample 1'!J20,'Sample 1'!J21,'Sample 1'!J22,'Sample 1'!J23,'Sample 1'!J24,'Sample 1'!J25,'Sample 1'!J26,'Sample 1'!J27,'Sample 1'!J28,'Sample 1'!J29,'Sample 1'!J30,'Sample 1'!J31,'Sample 1'!J32,'Sample 1'!J33,'Sample 1'!J34,'Sample 1'!J35)=0,"",AVERAGE('Sample 1'!J16,'Sample 1'!J17,'Sample 1'!J18,'Sample 1'!J19,'Sample 1'!J20,'Sample 1'!J21,'Sample 1'!J22,'Sample 1'!J23,'Sample 1'!J24,'Sample 1'!J25,'Sample 1'!J26,'Sample 1'!J27,'Sample 1'!J28,'Sample 1'!J29,'Sample 1'!J30,'Sample 1'!J31,'Sample 1'!J32,'Sample 1'!J33,'Sample 1'!J34,'Sample 1'!J35)) | C5: =IF(COUNT('Sample 2'!J16,'Sample 2'!J17,'Sample 2'!J18,'Sample 2'!J19,'Sample 2'!J20,'Sample 2'!J21,'Sample 2'!J22,'Sample 2'!J23,'Sample 2'!J24,'Sample 2'!J25,'Sample 2'!J26,'Sample 2'!J27,'Sample 2'!J28,'Sample 2'!J29,'Sample 2'!J30,'Sample 2'!J31,'Sample 2'!J32,'Sample 2'!J33,'Sample 2'!J34,'Sample 2'!J35)=0,"",AVERAGE('Sample 2'!J16,'Sample 2'!J17,'Sample 2'!J18,'Sample 2'!J19,'Sample 2'!J20,'Sample 2'!J21,'Sample 2'!J22,'Sample 2'!J23,'Sample 2'!J24,'Sample 2'!J25,'Sample 2'!J26,'Sample 2'!J27,'Sample 2'!J28,'Sample 2'!J29,'Sample 2'!J30,'Sample 2'!J31,'Sample 2'!J32,'Sample 2'!J33,'Sample 2'!J34,'Sample 2'!J35)) | D5: =IF(OR(B5="",C5=""),"",C5-B5) | E5: Lower is better; mean magnitude of dimensional error in the group.
A6: Apertures mean absolute error | B6: =IF(COUNT('Sample 1'!J36,'Sample 1'!J37,'Sample 1'!J38,'Sample 1'!J39)=0,"",AVERAGE('Sample 1'!J36,'Sample 1'!J37,'Sample 1'!J38,'Sample 1'!J39)) | C6: =IF(COUNT('Sample 2'!J36,'Sample 2'!J37,'Sample 2'!J38,'Sample 2'!J39)=0,"",AVERAGE('Sample 2'!J36,'Sample 2'!J37,'Sample 2'!J38,'Sample 2'!J39)) | D6: =IF(OR(B6="",C6=""),"",C6-B6) | E6: Lower is better; mean magnitude of dimensional error in the group.
A7: Pins mean absolute error | B7: =IF(COUNT('Sample 1'!J40,'Sample 1'!J41,'Sample 1'!J42,'Sample 1'!J43,'Sample 1'!J44,'Sample 1'!J45,'Sample 1'!J46,'Sample 1'!J47,'Sample 1'!J48,'Sample 1'!J49,'Sample 1'!J50,'Sample 1'!J51,'Sample 1'!J52,'Sample 1'!J53)=0,"",AVERAGE('Sample 1'!J40,'Sample 1'!J41,'Sample 1'!J42,'Sample 1'!J43,'Sample 1'!J44,'Sample 1'!J45,'Sample 1'!J46,'Sample 1'!J47,'Sample 1'!J48,'Sample 1'!J49,'Sample 1'!J50,'Sample 1'!J51,'Sample 1'!J52,'Sample 1'!J53)) | C7: =IF(COUNT('Sample 2'!J40,'Sample 2'!J41,'Sample 2'!J42,'Sample 2'!J43,'Sample 2'!J44,'Sample 2'!J45,'Sample 2'!J46,'Sample 2'!J47,'Sample 2'!J48,'Sample 2'!J49,'Sample 2'!J50,'Sample 2'!J51,'Sample 2'!J52,'Sample 2'!J53)=0,"",AVERAGE('Sample 2'!J40,'Sample 2'!J41,'Sample 2'!J42,'Sample 2'!J43,'Sample 2'!J44,'Sample 2'!J45,'Sample 2'!J46,'Sample 2'!J47,'Sample 2'!J48,'Sample 2'!J49,'Sample 2'!J50,'Sample 2'!J51,'Sample 2'!J52,'Sample 2'!J53)) | D7: =IF(OR(B7="",C7=""),"",C7-B7) | E7: Lower is better; mean magnitude of dimensional error in the group.
A8: Walls mean absolute error | B8: =IF(COUNT('Sample 1'!J54,'Sample 1'!J55,'Sample 1'!J56,'Sample 1'!J57,'Sample 1'!J58)=0,"",AVERAGE('Sample 1'!J54,'Sample 1'!J55,'Sample 1'!J56,'Sample 1'!J57,'Sample 1'!J58)) | C8: =IF(COUNT('Sample 2'!J54,'Sample 2'!J55,'Sample 2'!J56,'Sample 2'!J57,'Sample 2'!J58)=0,"",AVERAGE('Sample 2'!J54,'Sample 2'!J55,'Sample 2'!J56,'Sample 2'!J57,'Sample 2'!J58)) | D8: =IF(OR(B8="",C8=""),"",C8-B8) | E8: Lower is better; mean magnitude of dimensional error in the group.
A9: Reference mean absolute error | B9: =IF(COUNT('Sample 1'!J59,'Sample 1'!J60,'Sample 1'!J61,'Sample 1'!J62)=0,"",AVERAGE('Sample 1'!J59,'Sample 1'!J60,'Sample 1'!J61,'Sample 1'!J62)) | C9: =IF(COUNT('Sample 2'!J59,'Sample 2'!J60,'Sample 2'!J61,'Sample 2'!J62)=0,"",AVERAGE('Sample 2'!J59,'Sample 2'!J60,'Sample 2'!J61,'Sample 2'!J62)) | D9: =IF(OR(B9="",C9=""),"",C9-B9) | E9: Lower is better; mean magnitude of dimensional error in the group.
A10: Z Edge mean absolute error | B10: =IF(COUNT('Sample 1'!J63,'Sample 1'!J64,'Sample 1'!J65,'Sample 1'!J66,'Sample 1'!J67)=0,"",AVERAGE('Sample 1'!J63,'Sample 1'!J64,'Sample 1'!J65,'Sample 1'!J66,'Sample 1'!J67)) | C10: =IF(COUNT('Sample 2'!J63,'Sample 2'!J64,'Sample 2'!J65,'Sample 2'!J66,'Sample 2'!J67)=0,"",AVERAGE('Sample 2'!J63,'Sample 2'!J64,'Sample 2'!J65,'Sample 2'!J66,'Sample 2'!J67)) | D10: =IF(OR(B10="",C10=""),"",C10-B10) | E10: Lower is better; mean magnitude of dimensional error in the group.
A11: Round boss mean absolute error | B11: =IF(COUNT('Sample 1'!J68,'Sample 1'!J69)=0,"",AVERAGE('Sample 1'!J68,'Sample 1'!J69)) | C11: =IF(COUNT('Sample 2'!J68,'Sample 2'!J69)=0,"",AVERAGE('Sample 2'!J68,'Sample 2'!J69)) | D11: =IF(OR(B11="",C11=""),"",C11-B11) | E11: Lower is better; mean magnitude of dimensional error in the group.
A12: Profile cylinder mean absolute error | B12: =IF(COUNT('Sample 1'!J70,'Sample 1'!J71,'Sample 1'!J72,'Sample 1'!J73,'Sample 1'!J74,'Sample 1'!J75)=0,"",AVERAGE('Sample 1'!J70,'Sample 1'!J71,'Sample 1'!J72,'Sample 1'!J73,'Sample 1'!J74,'Sample 1'!J75)) | C12: =IF(COUNT('Sample 2'!J70,'Sample 2'!J71,'Sample 2'!J72,'Sample 2'!J73,'Sample 2'!J74,'Sample 2'!J75)=0,"",AVERAGE('Sample 2'!J70,'Sample 2'!J71,'Sample 2'!J72,'Sample 2'!J73,'Sample 2'!J74,'Sample 2'!J75)) | D12: =IF(OR(B12="",C12=""),"",C12-B12) | E12: Lower is better; mean magnitude of dimensional error in the group.
A13: Holes mean signed error | B13: =IF(COUNT('Sample 1'!I16,'Sample 1'!I17,'Sample 1'!I18,'Sample 1'!I19,'Sample 1'!I20,'Sample 1'!I21,'Sample 1'!I22,'Sample 1'!I23,'Sample 1'!I24,'Sample 1'!I25,'Sample 1'!I26,'Sample 1'!I27,'Sample 1'!I28,'Sample 1'!I29,'Sample 1'!I30,'Sample 1'!I31,'Sample 1'!I32,'Sample 1'!I33,'Sample 1'!I34,'Sample 1'!I35)=0,"",AVERAGE('Sample 1'!I16,'Sample 1'!I17,'Sample 1'!I18,'Sample 1'!I19,'Sample 1'!I20,'Sample 1'!I21,'Sample 1'!I22,'Sample 1'!I23,'Sample 1'!I24,'Sample 1'!I25,'Sample 1'!I26,'Sample 1'!I27,'Sample 1'!I28,'Sample 1'!I29,'Sample 1'!I30,'Sample 1'!I31,'Sample 1'!I32,'Sample 1'!I33,'Sample 1'!I34,'Sample 1'!I35)) | C13: =IF(COUNT('Sample 2'!I16,'Sample 2'!I17,'Sample 2'!I18,'Sample 2'!I19,'Sample 2'!I20,'Sample 2'!I21,'Sample 2'!I22,'Sample 2'!I23,'Sample 2'!I24,'Sample 2'!I25,'Sample 2'!I26,'Sample 2'!I27,'Sample 2'!I28,'Sample 2'!I29,'Sample 2'!I30,'Sample 2'!I31,'Sample 2'!I32,'Sample 2'!I33,'Sample 2'!I34,'Sample 2'!I35)=0,"",AVERAGE('Sample 2'!I16,'Sample 2'!I17,'Sample 2'!I18,'Sample 2'!I19,'Sample 2'!I20,'Sample 2'!I21,'Sample 2'!I22,'Sample 2'!I23,'Sample 2'!I24,'Sample 2'!I25,'Sample 2'!I26,'Sample 2'!I27,'Sample 2'!I28,'Sample 2'!I29,'Sample 2'!I30,'Sample 2'!I31,'Sample 2'!I32,'Sample 2'!I33,'Sample 2'!I34,'Sample 2'!I35)) | D13: =IF(OR(B13="",C13=""),"",C13-B13) | E13: Negative means holes are undersize on average.
A14: Pins mean signed error | B14: =IF(COUNT('Sample 1'!I40,'Sample 1'!I41,'Sample 1'!I42,'Sample 1'!I43,'Sample 1'!I44,'Sample 1'!I45,'Sample 1'!I46,'Sample 1'!I47,'Sample 1'!I48,'Sample 1'!I49,'Sample 1'!I50,'Sample 1'!I51,'Sample 1'!I52,'Sample 1'!I53)=0,"",AVERAGE('Sample 1'!I40,'Sample 1'!I41,'Sample 1'!I42,'Sample 1'!I43,'Sample 1'!I44,'Sample 1'!I45,'Sample 1'!I46,'Sample 1'!I47,'Sample 1'!I48,'Sample 1'!I49,'Sample 1'!I50,'Sample 1'!I51,'Sample 1'!I52,'Sample 1'!I53)) | C14: =IF(COUNT('Sample 2'!I40,'Sample 2'!I41,'Sample 2'!I42,'Sample 2'!I43,'Sample 2'!I44,'Sample 2'!I45,'Sample 2'!I46,'Sample 2'!I47,'Sample 2'!I48,'Sample 2'!I49,'Sample 2'!I50,'Sample 2'!I51,'Sample 2'!I52,'Sample 2'!I53)=0,"",AVERAGE('Sample 2'!I40,'Sample 2'!I41,'Sample 2'!I42,'Sample 2'!I43,'Sample 2'!I44,'Sample 2'!I45,'Sample 2'!I46,'Sample 2'!I47,'Sample 2'!I48,'Sample 2'!I49,'Sample 2'!I50,'Sample 2'!I51,'Sample 2'!I52,'Sample 2'!I53)) | D14: =IF(OR(B14="",C14=""),"",C14-B14) | E14: Negative means standard pins are undersize on average.
A15: Round boss ovality | B15: =IF(OR('Sample 1'!H68="",'Sample 1'!H69=""),"",ABS('Sample 1'!H68-'Sample 1'!H69)) | C15: =IF(OR('Sample 2'!H68="",'Sample 2'!H69=""),"",ABS('Sample 2'!H68-'Sample 2'!H69)) | D15: =IF(OR(B15="",C15=""),"",C15-B15) | E15: Absolute X-Y diameter difference at the controlled mid-height plane.
A16: C12 lower mean diameter | B16: =IF(OR('Sample 1'!H70="",'Sample 1'!H71=""),"",AVERAGE('Sample 1'!H70,'Sample 1'!H71)) | C16: =IF(OR('Sample 2'!H70="",'Sample 2'!H71=""),"",AVERAGE('Sample 2'!H70,'Sample 2'!H71)) | D16: =IF(OR(B16="",C16=""),"",C16-B16) | E16: Mean X/Y diameter at 3.0 mm above base top.
A17: C12 mid mean diameter | B17: =IF(OR('Sample 1'!H72="",'Sample 1'!H73=""),"",AVERAGE('Sample 1'!H72,'Sample 1'!H73)) | C17: =IF(OR('Sample 2'!H72="",'Sample 2'!H73=""),"",AVERAGE('Sample 2'!H72,'Sample 2'!H73)) | D17: =IF(OR(B17="",C17=""),"",C17-B17) | E17: Mean X/Y diameter at 7.5 mm above base top.
A18: C12 upper mean diameter | B18: =IF(OR('Sample 1'!H74="",'Sample 1'!H75=""),"",AVERAGE('Sample 1'!H74,'Sample 1'!H75)) | C18: =IF(OR('Sample 2'!H74="",'Sample 2'!H75=""),"",AVERAGE('Sample 2'!H74,'Sample 2'!H75)) | D18: =IF(OR(B18="",C18=""),"",C18-B18) | E18: Mean X/Y diameter at 12.0 mm above base top.
A19: C12 upper-lower change | B19: =IF(COUNT('Sample 1'!H70,'Sample 1'!H71,'Sample 1'!H74,'Sample 1'!H75)<4,"",AVERAGE('Sample 1'!H74,'Sample 1'!H75)-AVERAGE('Sample 1'!H70,'Sample 1'!H71)) | C19: =IF(COUNT('Sample 2'!H70,'Sample 2'!H71,'Sample 2'!H74,'Sample 2'!H75)<4,"",AVERAGE('Sample 2'!H74,'Sample 2'!H75)-AVERAGE('Sample 2'!H70,'Sample 2'!H71)) | D19: =IF(OR(B19="",C19=""),"",C19-B19) | E19: Signed axial diameter change; positive means larger at the upper plane.
A20: C12 max axial range | B20: =IF(COUNT('Sample 1'!H70,'Sample 1'!H71,'Sample 1'!H72,'Sample 1'!H73,'Sample 1'!H74,'Sample 1'!H75)<6,"",MAX('Sample 1'!H70,'Sample 1'!H71,'Sample 1'!H72,'Sample 1'!H73,'Sample 1'!H74,'Sample 1'!H75)-MIN('Sample 1'!H70,'Sample 1'!H71,'Sample 1'!H72,'Sample 1'!H73,'Sample 1'!H74,'Sample 1'!H75)) | C20: =IF(COUNT('Sample 2'!H70,'Sample 2'!H71,'Sample 2'!H72,'Sample 2'!H73,'Sample 2'!H74,'Sample 2'!H75)<6,"",MAX('Sample 2'!H70,'Sample 2'!H71,'Sample 2'!H72,'Sample 2'!H73,'Sample 2'!H74,'Sample 2'!H75)-MIN('Sample 2'!H70,'Sample 2'!H71,'Sample 2'!H72,'Sample 2'!H73,'Sample 2'!H74,'Sample 2'!H75)) | D20: =IF(OR(B20="",C20=""),"",C20-B20) | E20: Maximum diameter spread across all C12 planes and axes.
A21: C12 max ovality | B21: =IF(COUNT('Sample 1'!H70,'Sample 1'!H71,'Sample 1'!H72,'Sample 1'!H73,'Sample 1'!H74,'Sample 1'!H75)<6,"",MAX(ABS('Sample 1'!H70-'Sample 1'!H71),ABS('Sample 1'!H72-'Sample 1'!H73),ABS('Sample 1'!H74-'Sample 1'!H75))) | C21: =IF(COUNT('Sample 2'!H70,'Sample 2'!H71,'Sample 2'!H72,'Sample 2'!H73,'Sample 2'!H74,'Sample 2'!H75)<6,"",MAX(ABS('Sample 2'!H70-'Sample 2'!H71),ABS('Sample 2'!H72-'Sample 2'!H73),ABS('Sample 2'!H74-'Sample 2'!H75))) | D21: =IF(OR(B21="",C21=""),"",C21-B21) | E21: Largest X-Y difference at any C12 height plane.
A22: Maximum absolute error | B22: =IF(COUNT('Sample 1'!J13,'Sample 1'!J14,'Sample 1'!J15,'Sample 1'!J16,'Sample 1'!J17,'Sample 1'!J18,'Sample 1'!J19,'Sample 1'!J20,'Sample 1'!J21,'Sample 1'!J22,'Sample 1'!J23,'Sample 1'!J24,'Sample 1'!J25,'Sample 1'!J26,'Sample 1'!J27,'Sample 1'!J28,'Sample 1'!J29,'Sample 1'!J30,'Sample 1'!J31,'Sample 1'!J32,'Sample 1'!J33,'Sample 1'!J34,'Sample 1'!J35,'Sample 1'!J36,'Sample 1'!J37,'Sample 1'!J38,'Sample 1'!J39,'Sample 1'!J40,'Sample 1'!J41,'Sample 1'!J42,'Sample 1'!J43,'Sample 1'!J44,'Sample 1'!J45,'Sample 1'!J46,'Sample 1'!J47,'Sample 1'!J48,'Sample 1'!J49,'Sample 1'!J50,'Sample 1'!J51,'Sample 1'!J52,'Sample 1'!J53,'Sample 1'!J54,'Sample 1'!J55,'Sample 1'!J56,'Sample 1'!J57,'Sample 1'!J58,'Sample 1'!J59,'Sample 1'!J60,'Sample 1'!J61,'Sample 1'!J62,'Sample 1'!J63,'Sample 1'!J64,'Sample 1'!J65,'Sample 1'!J66,'Sample 1'!J67,'Sample 1'!J68,'Sample 1'!J69,'Sample 1'!J70,'Sample 1'!J71,'Sample 1'!J72,'Sample 1'!J73,'Sample 1'!J74,'Sample 1'!J75)=0,"",MAX('Sample 1'!J13,'Sample 1'!J14,'Sample 1'!J15,'Sample 1'!J16,'Sample 1'!J17,'Sample 1'!J18,'Sample 1'!J19,'Sample 1'!J20,'Sample 1'!J21,'Sample 1'!J22,'Sample 1'!J23,'Sample 1'!J24,'Sample 1'!J25,'Sample 1'!J26,'Sample 1'!J27,'Sample 1'!J28,'Sample 1'!J29,'Sample 1'!J30,'Sample 1'!J31,'Sample 1'!J32,'Sample 1'!J33,'Sample 1'!J34,'Sample 1'!J35,'Sample 1'!J36,'Sample 1'!J37,'Sample 1'!J38,'Sample 1'!J39,'Sample 1'!J40,'Sample 1'!J41,'Sample 1'!J42,'Sample 1'!J43,'Sample 1'!J44,'Sample 1'!J45,'Sample 1'!J46,'Sample 1'!J47,'Sample 1'!J48,'Sample 1'!J49,'Sample 1'!J50,'Sample 1'!J51,'Sample 1'!J52,'Sample 1'!J53,'Sample 1'!J54,'Sample 1'!J55,'Sample 1'!J56,'Sample 1'!J57,'Sample 1'!J58,'Sample 1'!J59,'Sample 1'!J60,'Sample 1'!J61,'Sample 1'!J62,'Sample 1'!J63,'Sample 1'!J64,'Sample 1'!J65,'Sample 1'!J66,'Sample 1'!J67,'Sample 1'!J68,'Sample 1'!J69,'Sample 1'!J70,'Sample 1'!J71,'Sample 1'!J72,'Sample 1'!J73,'Sample 1'!J74,'Sample 1'!J75)) | C22: =IF(COUNT('Sample 2'!J13,'Sample 2'!J14,'Sample 2'!J15,'Sample 2'!J16,'Sample 2'!J17,'Sample 2'!J18,'Sample 2'!J19,'Sample 2'!J20,'Sample 2'!J21,'Sample 2'!J22,'Sample 2'!J23,'Sample 2'!J24,'Sample 2'!J25,'Sample 2'!J26,'Sample 2'!J27,'Sample 2'!J28,'Sample 2'!J29,'Sample 2'!J30,'Sample 2'!J31,'Sample 2'!J32,'Sample 2'!J33,'Sample 2'!J34,'Sample 2'!J35,'Sample 2'!J36,'Sample 2'!J37,'Sample 2'!J38,'Sample 2'!J39,'Sample 2'!J40,'Sample 2'!J41,'Sample 2'!J42,'Sample 2'!J43,'Sample 2'!J44,'Sample 2'!J45,'Sample 2'!J46,'Sample 2'!J47,'Sample 2'!J48,'Sample 2'!J49,'Sample 2'!J50,'Sample 2'!J51,'Sample 2'!J52,'Sample 2'!J53,'Sample 2'!J54,'Sample 2'!J55,'Sample 2'!J56,'Sample 2'!J57,'Sample 2'!J58,'Sample 2'!J59,'Sample 2'!J60,'Sample 2'!J61,'Sample 2'!J62,'Sample 2'!J63,'Sample 2'!J64,'Sample 2'!J65,'Sample 2'!J66,'Sample 2'!J67,'Sample 2'!J68,'Sample 2'!J69,'Sample 2'!J70,'Sample 2'!J71,'Sample 2'!J72,'Sample 2'!J73,'Sample 2'!J74,'Sample 2'!J75)=0,"",MAX('Sample 2'!J13,'Sample 2'!J14,'Sample 2'!J15,'Sample 2'!J16,'Sample 2'!J17,'Sample 2'!J18,'Sample 2'!J19,'Sample 2'!J20,'Sample 2'!J21,'Sample 2'!J22,'Sample 2'!J23,'Sample 2'!J24,'Sample 2'!J25,'Sample 2'!J26,'Sample 2'!J27,'Sample 2'!J28,'Sample 2'!J29,'Sample 2'!J30,'Sample 2'!J31,'Sample 2'!J32,'Sample 2'!J33,'Sample 2'!J34,'Sample 2'!J35,'Sample 2'!J36,'Sample 2'!J37,'Sample 2'!J38,'Sample 2'!J39,'Sample 2'!J40,'Sample 2'!J41,'Sample 2'!J42,'Sample 2'!J43,'Sample 2'!J44,'Sample 2'!J45,'Sample 2'!J46,'Sample 2'!J47,'Sample 2'!J48,'Sample 2'!J49,'Sample 2'!J50,'Sample 2'!J51,'Sample 2'!J52,'Sample 2'!J53,'Sample 2'!J54,'Sample 2'!J55,'Sample 2'!J56,'Sample 2'!J57,'Sample 2'!J58,'Sample 2'!J59,'Sample 2'!J60,'Sample 2'!J61,'Sample 2'!J62,'Sample 2'!J63,'Sample 2'!J64,'Sample 2'!J65,'Sample 2'!J66,'Sample 2'!J67,'Sample 2'!J68,'Sample 2'!J69,'Sample 2'!J70,'Sample 2'!J71,'Sample 2'!J72,'Sample 2'!J73,'Sample 2'!J74,'Sample 2'!J75)) | D22: =IF(OR(B22="",C22=""),"",C22-B22) | E22: Largest single recorded absolute dimensional error.

Sheet Sample 1
A1: D&L PQ-01 v1.2 - Dimensional Qualification Record
A2: Blue text = user input. Black = calculated. All dimensions in mm. Repeat readings are reseated measurements at the same prescribed plane.
A4: Sample ID | B4: PQ01-X1C-04 | D4: Printer | E4: Bambu Lab X1C | G4: Nozzle diameter (mm) | H4: 0.4 | J4: Layer height (mm) | K4: 0.2
A6: Material / filament | B6: PLA | D6: Slicer / profile | E6: Bambu | G6: Nozzle temp (C) | H6: 220 | J6: Bed temp (C) | K6: 55
A8: Date | B8: 46316
A10: MEASUREMENT CONTROL: Standard pins and R20 are measured at the defined MID plane (5.0 mm above the base top). For C12 use the LOWER/MID/UPPER planes shown in the guide. Do not mix measurement heights between repeats.
A12: Group | B12: Feature ID | C12: Axis / metric | D12: Nominal | E12: Reading 1 | F12: Reading 2 | G12: Reading 3 | H12: Mean measured | I12: Error | J12: Abs error | K12: Error % | L12: Notes
A13: Overall | B13: Overall X | C13: X | D13: 140 | E13: 139.75 | F13: 139.76 | H13: =IF(COUNT(E13:G13)=0,"",AVERAGE(E13:G13)) | I13: =IF(H13="","",H13-D13) | J13: =IF(I13="","",ABS(I13)) | K13: =IF(I13="","",I13/D13) | L13: External jaws across straight left/right outer faces; avoid rounded corners.
A14: Overall | B14: Overall Y | C14: Y | D14: 90 | E14: 89.88 | F14: 89.87 | H14: =IF(COUNT(E14:G14)=0,"",AVERAGE(E14:G14)) | I14: =IF(H14="","",H14-D14) | J14: =IF(I14="","",ABS(I14)) | K14: =IF(I14="","",I14/D14) | L14: External jaws across straight front/rear outer faces; avoid rounded corners.
A15: Overall | B15: Base thickness | C15: Z | D15: 3 | E15: 3.08 | F15: 3 | H15: =IF(COUNT(E15:G15)=0,"",AVERAGE(E15:G15)) | I15: =IF(H15="","",H15-D15) | J15: =IF(I15="","",ABS(I15)) | K15: =IF(I15="","",I15/D15) | L15: Underside to base top on unobstructed plate area.
A16: Holes | B16: H2 | C16: X | D16: 2 | E16: 1.64 | F16: 1.63 | H16: =IF(COUNT(E16:G16)=0,"",AVERAGE(E16:G16)) | I16: =IF(H16="","",H16-D16) | J16: =IF(I16="","",ABS(I16)) | K16: =IF(I16="","",I16/D16) | L16: Internal diameter measured in printer X direction. Indicative with standard caliper internal jaws; pin gauges preferred.
A17: Holes | B17: H2 | C17: Y | D17: 2 | E17: 1.83 | F17: 1.83 | H17: =IF(COUNT(E17:G17)=0,"",AVERAGE(E17:G17)) | I17: =IF(H17="","",H17-D17) | J17: =IF(I17="","",ABS(I17)) | K17: =IF(I17="","",I17/D17) | L17: Internal diameter measured in printer Y direction. Indicative with standard caliper internal jaws; pin gauges preferred.
A18: Holes | B18: H2.5 | C18: X | D18: 2.5 | E18: 2.25 | F18: 2.24 | H18: =IF(COUNT(E18:G18)=0,"",AVERAGE(E18:G18)) | I18: =IF(H18="","",H18-D18) | J18: =IF(I18="","",ABS(I18)) | K18: =IF(I18="","",I18/D18) | L18: Internal diameter measured in printer X direction. Indicative with standard caliper internal jaws; pin gauges preferred.
A19: Holes | B19: H2.5 | C19: Y | D19: 2.5 | E19: 2.3 | F19: 2.3 | H19: =IF(COUNT(E19:G19)=0,"",AVERAGE(E19:G19)) | I19: =IF(H19="","",H19-D19) | J19: =IF(I19="","",ABS(I19)) | K19: =IF(I19="","",I19/D19) | L19: Internal diameter measured in printer Y direction. Indicative with standard caliper internal jaws; pin gauges preferred.
A20: Holes | B20: H3 | C20: X | D20: 3 | E20: 2.79 | F20: 2.79 | H20: =IF(COUNT(E20:G20)=0,"",AVERAGE(E20:G20)) | I20: =IF(H20="","",H20-D20) | J20: =IF(I20="","",ABS(I20)) | K20: =IF(I20="","",I20/D20) | L20: Internal diameter measured in printer X direction. Indicative with standard caliper internal jaws; pin gauges preferred.
A21: Holes | B21: H3 | C21: Y | D21: 3 | E21: 2.86 | F21: 2.85 | H21: =IF(COUNT(E21:G21)=0,"",AVERAGE(E21:G21)) | I21: =IF(H21="","",H21-D21) | J21: =IF(I21="","",ABS(I21)) | K21: =IF(I21="","",I21/D21) | L21: Internal diameter measured in printer Y direction. Indicative with standard caliper internal jaws; pin gauges preferred.
A22: Holes | B22: H3.5 | C22: X | D22: 3.5 | E22: 3.21 | F22: 3.22 | H22: =IF(COUNT(E22:G22)=0,"",AVERAGE(E22:G22)) | I22: =IF(H22="","",H22-D22) | J22: =IF(I22="","",ABS(I22)) | K22: =IF(I22="","",I22/D22) | L22: Internal diameter measured in printer X direction. Indicative with standard caliper internal jaws; pin gauges preferred.
A23: Holes | B23: H3.5 | C23: Y | D23: 3.5 | E23: 3.3 | F23: 3.3 | H23: =IF(COUNT(E23:G23)=0,"",AVERAGE(E23:G23)) | I23: =IF(H23="","",H23-D23) | J23: =IF(I23="","",ABS(I23)) | K23: =IF(I23="","",I23/D23) | L23: Internal diameter measured in printer Y direction. Indicative with standard caliper internal jaws; pin gauges preferred.
A24: Holes | B24: H4 | C24: X | D24: 4 | E24: 3.75 | F24: 3.75 | H24: =IF(COUNT(E24:G24)=0,"",AVERAGE(E24:G24)) | I24: =IF(H24="","",H24-D24) | J24: =IF(I24="","",ABS(I24)) | K24: =IF(I24="","",I24/D24) | L24: Internal diameter measured in printer X direction.
... A62: Reference | B62: LB | C62: X | D62: 40 | E62: 39.93 | F62: 39.9 | H62: =IF(COUNT(E62:G62)=0,"",AVERAGE(E62:G62)) | I62: =IF(H62="","",H62-D62) | J62: =IF(I62="","",ABS(I62)) | K62: =IF(I62="","",I62/D62) | L62: Long-span bar X length across end faces.
A63: Z Edge | B63: Z1 | C63: Height | D63: 1 | E63: 4.08 | F63: 4.09 | H63: =IF(COUNT(E63:G63)=0,"",AVERAGE(E63:G63)-$H$15) | I63: =IF(H63="","",H63-D63) | J63: =IF(I63="","",ABS(I63)) | K63: =IF(I63="","",I63/D63) | L63: Enter TOTAL thickness from coupon underside to pad top; workbook subtracts measured base thickness.
A64: Z Edge | B64: Z2 | C64: Height | D64: 2 | E64: 5.04 | F64: 5.02 | H64: =IF(COUNT(E64:G64)=0,"",AVERAGE(E64:G64)-$H$15) | I64: =IF(H64="","",H64-D64) | J64: =IF(I64="","",ABS(I64)) | K64: =IF(I64="","",I64/D64) | L64: Enter TOTAL thickness from coupon underside to pad top; workbook subtracts measured base thickness.
A65: Z Edge | B65: Z4 | C65: Height | D65: 4 | E65: 7.05 | F65: 7.03 | H65: =IF(COUNT(E65:G65)=0,"",AVERAGE(E65:G65)-$H$15) | I65: =IF(H65="","",H65-D65) | J65: =IF(I65="","",ABS(I65)) | K65: =IF(I65="","",I65/D65) | L65: Enter TOTAL thickness from coupon underside to pad top; workbook subtracts measured base thickness.
A66: Z Edge | B66: Z6 | C66: Height | D66: 6 | E66: 9.09 | F66: 9.1 | H66: =IF(COUNT(E66:G66)=0,"",AVERAGE(E66:G66)-$H$15) | I66: =IF(H66="","",H66-D66) | J66: =IF(I66="","",ABS(I66)) | K66: =IF(I66="","",I66/D66) | L66: Enter TOTAL thickness from coupon underside to pad top; workbook subtracts measured base thickness.
A67: Z Edge | B67: Z10 | C67: Height | D67: 10 | E67: 13.09 | F67: 13.08 | H67: =IF(COUNT(E67:G67)=0,"",AVERAGE(E67:G67)-$H$15) | I67: =IF(H67="","",H67-D67) | J67: =IF(I67="","",ABS(I67)) | K67: =IF(I67="","",I67/D67) | L67: Enter TOTAL thickness from coupon underside to pad top; workbook subtracts measured base thickness.
A68: Round boss | B68: R20 | C68: X | D68: 20 | E68: 19.76 | F68: 19.77 | H68: =IF(COUNT(E68:G68)=0,"",AVERAGE(E68:G68)) | I68: =IF(H68="","",H68-D68) | J68: =IF(I68="","",ABS(I68)) | K68: =IF(I68="","",I68/D68) | L68: Diameter at MID plane: 5.0 mm above base top, printer X direction.
A69: Round boss | B69: R20 | C69: Y | D69: 20 | E69: 19.86 | F69: 19.82 | H69: =IF(COUNT(E69:G69)=0,"",AVERAGE(E69:G69)) | I69: =IF(H69="","",H69-D69) | J69: =IF(I69="","",ABS(I69)) | K69: =IF(I69="","",I69/D69) | L69: Diameter at MID plane: 5.0 mm above base top, printer Y direction.
A70: Profile cylinder | B70: C12 LOWER | C70: X | D70: 12 | E70: 11.86 | F70: 11.86 | H70: =IF(COUNT(E70:G70)=0,"",AVERAGE(E70:G70)) | I70: =IF(H70="","",H70-D70) | J70: =IF(I70="","",ABS(I70)) | K70: =IF(I70="","",I70/D70) | L70: Diameter at LOWER plane: 3 mm above base top, printer X direction.
A71: Profile cylinder | B71: C12 LOWER | C71: Y | D71: 12 | E71: 11.89 | F71: 11.88 | H71: =IF(COUNT(E71:G71)=0,"",AVERAGE(E71:G71)) | I71: =IF(H71="","",H71-D71) | J71: =IF(I71="","",ABS(I71)) | K71: =IF(I71="","",I71/D71) | L71: Diameter at LOWER plane: 3 mm above base top, printer Y direction.
A72: Profile cylinder | B72: C12 MID | C72: X | D72: 12 | E72: 11.86 | F72: 11.86 | H72: =IF(COUNT(E72:G72)=0,"",AVERAGE(E72:G72)) | I72: =IF(H72="","",H72-D72) | J72: =IF(I72="","",ABS(I72)) | K72: =IF(I72="","",I72/D72) | L72: Diameter at MID plane: 7.5 mm above base top, printer X direction.
A73: Profile cylinder | B73: C12 MID | C73: Y | D73: 12 | E73: 11.89 | F73: 11.88 | H73: =IF(COUNT(E73:G73)=0,"",AVERAGE(E73:G73)) | I73: =IF(H73="","",H73-D73) | J73: =IF(I73="","",ABS(I73)) | K73: =IF(I73="","",I73/D73) | L73: Diameter at MID plane: 7.5 mm above base top, printer Y direction.
A74: Profile cylinder | B74: C12 UPPER | C74: X | D74: 12 | E74: 11.92 | F74: 11.92 | H74: =IF(COUNT(E74:G74)=0,"",AVERAGE(E74:G74)) | I74: =IF(H74="","",H74-D74) | J74: =IF(I74="","",ABS(I74)) | K74: =IF(I74="","",I74/D74) | L74: Diameter at UPPER plane: 12 mm above base top, printer X direction.
A75: Profile cylinder | B75: C12 UPPER | C75: Y | D75: 12 | E75: 11.92 | F75: 11.92 | H75: =IF(COUNT(E75:G75)=0,"",AVERAGE(E75:G75)) | I75: =IF(H75="","",H75-D75) | J75: =IF(I75="","",ABS(I75)) | K75: =IF(I75="","",I75/D75) | L75: Diameter at UPPER plane: 12 mm above base top, printer Y direction.

Sheet Sample 2
A1: D&L PQ-01 v1.2 - Dimensional Qualification Record
A2: Blue text = user input. Black = calculated. All dimensions in mm. Repeat readings are reseated measurements at the same prescribed plane.
A4: Sample ID | B4: PQ01-H2D-04 | D4: Printer | E4: Bambu Lab H2D | G4: Nozzle diameter (mm) | H4: 0.4 | J4: Layer height (mm) | K4: 0.2
A6: Material / filament | B6: PLA | D6: Slicer / profile | E6: Bambu | G6: Nozzle temp (C) | H6: 220 | J6: Bed temp (C) | K6: 55
A8: Date | B8: 46316
A10: MEASUREMENT CONTROL: Standard pins and R20 are measured at the defined MID plane (5.0 mm above the base top). For C12 use the LOWER/MID/UPPER planes shown in the guide. Do not mix measurement heights between repeats.
A12: Group | B12: Feature ID | C12: Axis / metric | D12: Nominal | E12: Reading 1 | F12: Reading 2 | G12: Reading 3 | H12: Mean measured | I12: Error | J12: Abs error | K12: Error % | L12: Notes
A13: Overall | B13: Overall X | C13: X | D13: 140 | E13: 139.71 | F13: 139.71 | H13: =IF(COUNT(E13:G13)=0,"",AVERAGE(E13:G13)) | I13: =IF(H13="","",H13-D13) | J13: =IF(I13="","",ABS(I13)) | K13: =IF(I13="","",I13/D13) | L13: External jaws across straight left/right outer faces; avoid rounded corners.
A14: Overall | B14: Overall Y | C14: Y | D14: 90 | E14: 89.71 | F14: 89.68 | H14: =IF(COUNT(E14:G14)=0,"",AVERAGE(E14:G14)) | I14: =IF(H14="","",H14-D14) | J14: =IF(I14="","",ABS(I14)) | K14: =IF(I14="","",I14/D14) | L14: External jaws across straight front/rear outer faces; avoid rounded corners.
A15: Overall | B15: Base thickness | C15: Z | D15: 3 | E15: 3 | F15: 3 | H15: =IF(COUNT(E15:G15)=0,"",AVERAGE(E15:G15)) | I15: =IF(H15="","",H15-D15) | J15: =IF(I15="","",ABS(I15)) | K15: =IF(I15="","",I15/D15) | L15: Underside to base top on unobstructed plate area.
A16: Holes | B16: H2 | C16: X | D16: 2 | E16: 1.38 | F16: 1.38 | H16: =IF(COUNT(E16:G16)=0,"",AVERAGE(E16:G16)) | I16: =IF(H16="","",H16-D16) | J16: =IF(I16="","",ABS(I16)) | K16: =IF(I16="","",I16/D16) | L16: Internal diameter measured in printer X direction. Indicative with standard caliper internal jaws; pin gauges preferred.
A17: Holes | B17: H2 | C17: Y | D17: 2 | E17: 1.48 | F17: 1.47 | H17: =IF(COUNT(E17:G17)=0,"",AVERAGE(E17:G17)) | I17: =IF(H17="","",H17-D17) | J17: =IF(I17="","",ABS(I17)) | K17: =IF(I17="","",I17/D17) | L17: Internal diameter measured in printer Y direction. Indicative with standard caliper internal jaws; pin gauges preferred.
A18: Holes | B18: H2.5 | C18: X | D18: 2.5 | E18: 2.06 | F18: 2.03 | H18: =IF(COUNT(E18:G18)=0,"",AVERAGE(E18:G18)) | I18: =IF(H18="","",H18-D18) | J18: =IF(I18="","",ABS(I18)) | K18: =IF(I18="","",I18/D18) | L18: Internal diameter measured in printer X direction. Indicative with standard caliper internal jaws; pin gauges preferred.
A19: Holes | B19: H2.5 | C19: Y | D19: 2.5 | E19: 2.01 | F19: 2.01 | H19: =IF(COUNT(E19:G19)=0,"",AVERAGE(E19:G19)) | I19: =IF(H19="","",H19-D19) | J19: =IF(I19="","",ABS(I19)) | K19: =IF(I19="","",I19/D19) | L19: Internal diameter measured in printer Y direction. Indicative with standard caliper internal jaws; pin gauges preferred.
A20: Holes | B20: H3 | C20: X | D20: 3 | E20: 2.63 | F20: 2.63 | H20: =IF(COUNT(E20:G20)=0,"",AVERAGE(E20:G20)) | I20: =IF(H20="","",H20-D20) | J20: =IF(I20="","",ABS(I20)) | K20: =IF(I20="","",I20/D20) | L20: Internal diameter measured in printer X direction. Indicative with standard caliper internal jaws; pin gauges preferred.
A21: Holes | B21: H3 | C21: Y | D21: 3 | E21: 2.51 | F21: 2.55 | H21: =IF(COUNT(E21:G21)=0,"",AVERAGE(E21:G21)) | I21: =IF(H21="","",H21-D21) | J21: =IF(I21="","",ABS(I21)) | K21: =IF(I21="","",I21/D21) | L21: Internal diameter measured in printer Y direction. Indicative with standard caliper internal jaws; pin gauges preferred.
A22: Holes | B22: H3.5 | C22: X | D22: 3.5 | E22: 3.04 | F22: 2.99 | H22: =IF(COUNT(E22:G22)=0,"",AVERAGE(E22:G22)) | I22: =IF(H22="","",H22-D22) | J22: =IF(I22="","",ABS(I22)) | K22: =IF(I22="","",I22/D22) | L22: Internal diameter measured in printer X direction. Indicative with standard caliper internal jaws; pin gauges preferred.
A23: Holes | B23: H3.5 | C23: Y | D23: 3.5 | E23: 3.05 | F23: 3.06 | H23: =IF(COUNT(E23:G23)=0,"",AVERAGE(E23:G23)) | I23: =IF(H23="","",H23-D23) | J23: =IF(I23="","",ABS(I23)) | K23: =IF(I23="","",I23/D23) | L23: Internal diameter measured in printer Y direction. Indicative with standard caliper internal jaws; pin gauges preferred.
A24: Holes | B24: H4 | C24: X | D24: 4 | E24: 3.51 | F24: 3.51 | H24: =IF(COUNT(E24:G24)=0,"",AVERAGE(E24:G24)) | I24: =IF(H24="","",H24-D24) | J24: =IF(I24="","",ABS(I24)) | K24: =IF(I24="","",I24/D24) | L24: Internal diameter measured in printer X direction.
... A62: Reference | B62: LB | C62: X | D62: 40 | E62: 39.94 | F62: 39.99 | H62: =IF(COUNT(E62:G62)=0,"",AVERAGE(E62:G62)) | I62: =IF(H62="","",H62-D62) | J62: =IF(I62="","",ABS(I62)) | K62: =IF(I62="","",I62/D62) | L62: Long-span bar X length across end faces.
A63: Z Edge | B63: Z1 | C63: Height | D63: 1 | E63: 3.99 | F63: 3.99 | H63: =IF(COUNT(E63:G63)=0,"",AVERAGE(E63:G63)-$H$15) | I63: =IF(H63="","",H63-D63) | J63: =IF(I63="","",ABS(I63)) | K63: =IF(I63="","",I63/D63) | L63: Enter TOTAL thickness from coupon underside to pad top; workbook subtracts measured base thickness.
A64: Z Edge | B64: Z2 | C64: Height | D64: 2 | E64: 4.98 | F64: 4.99 | H64: =IF(COUNT(E64:G64)=0,"",AVERAGE(E64:G64)-$H$15) | I64: =IF(H64="","",H64-D64) | J64: =IF(I64="","",ABS(I64)) | K64: =IF(I64="","",I64/D64) | L64: Enter TOTAL thickness from coupon underside to pad top; workbook subtracts measured base thickness.
A65: Z Edge | B65: Z4 | C65: Height | D65: 4 | E65: 7 | F65: 7 | H65: =IF(COUNT(E65:G65)=0,"",AVERAGE(E65:G65)-$H$15) | I65: =IF(H65="","",H65-D65) | J65: =IF(I65="","",ABS(I65)) | K65: =IF(I65="","",I65/D65) | L65: Enter TOTAL thickness from coupon underside to pad top; workbook subtracts measured base thickness.
A66: Z Edge | B66: Z6 | C66: Height | D66: 6 | E66: 9 | F66: 9 | H66: =IF(COUNT(E66:G66)=0,"",AVERAGE(E66:G66)-$H$15) | I66: =IF(H66="","",H66-D66) | J66: =IF(I66="","",ABS(I66)) | K66: =IF(I66="","",I66/D66) | L66: Enter TOTAL thickness from coupon underside to pad top; workbook subtracts measured base thickness.
A67: Z Edge | B67: Z10 | C67: Height | D67: 10 | E67: 13 | F67: 13.01 | H67: =IF(COUNT(E67:G67)=0,"",AVERAGE(E67:G67)-$H$15) | I67: =IF(H67="","",H67-D67) | J67: =IF(I67="","",ABS(I67)) | K67: =IF(I67="","",I67/D67) | L67: Enter TOTAL thickness from coupon underside to pad top; workbook subtracts measured base thickness.
A68: Round boss | B68: R20 | C68: X | D68: 20 | E68: 19.65 | F68: 19.66 | H68: =IF(COUNT(E68:G68)=0,"",AVERAGE(E68:G68)) | I68: =IF(H68="","",H68-D68) | J68: =IF(I68="","",ABS(I68)) | K68: =IF(I68="","",I68/D68) | L68: Diameter at MID plane: 5.0 mm above base top, printer X direction.
A69: Round boss | B69: R20 | C69: Y | D69: 20 | E69: 19.8 | F69: 19.78 | H69: =IF(COUNT(E69:G69)=0,"",AVERAGE(E69:G69)) | I69: =IF(H69="","",H69-D69) | J69: =IF(I69="","",ABS(I69)) | K69: =IF(I69="","",I69/D69) | L69: Diameter at MID plane: 5.0 mm above base top, printer Y direction.
A70: Profile cylinder | B70: C12 LOWER | C70: X | D70: 12 | E70: 11.72 | F70: 11.72 | H70: =IF(COUNT(E70:G70)=0,"",AVERAGE(E70:G70)) | I70: =IF(H70="","",H70-D70) | J70: =IF(I70="","",ABS(I70)) | K70: =IF(I70="","",I70/D70) | L70: Diameter at LOWER plane: 3 mm above base top, printer X direction.
A71: Profile cylinder | B71: C12 LOWER | C71: Y | D71: 12 | E71: 11.73 | F71: 11.72 | H71: =IF(COUNT(E71:G71)=0,"",AVERAGE(E71:G71)) | I71: =IF(H71="","",H71-D71) | J71: =IF(I71="","",ABS(I71)) | K71: =IF(I71="","",I71/D71) | L71: Diameter at LOWER plane: 3 mm above base top, printer Y direction.
A72: Profile cylinder | B72: C12 MID | C72: X | D72: 12 | E72: 11.83 | F72: 11.83 | H72: =IF(COUNT(E72:G72)=0,"",AVERAGE(E72:G72)) | I72: =IF(H72="","",H72-D72) | J72: =IF(I72="","",ABS(I72)) | K72: =IF(I72="","",I72/D72) | L72: Diameter at MID plane: 7.5 mm above base top, printer X direction.
A73: Profile cylinder | B73: C12 MID | C73: Y | D73: 12 | E73: 11.83 | F73: 11.84 | H73: =IF(COUNT(E73:G73)=0,"",AVERAGE(E73:G73)) | I73: =IF(H73="","",H73-D73) | J73: =IF(I73="","",ABS(I73)) | K73: =IF(I73="","",I73/D73) | L73: Diameter at MID plane: 7.5 mm above base top, printer Y direction.
A74: Profile cylinder | B74: C12 UPPER | C74: X | D74: 12 | E74: 11.83 | F74: 11.84 | H74: =IF(COUNT(E74:G74)=0,"",AVERAGE(E74:G74)) | I74: =IF(H74="","",H74-D74) | J74: =IF(I74="","",ABS(I74)) | K74: =IF(I74="","",I74/D74) | L74: Diameter at UPPER plane: 12 mm above base top, printer X direction.
A75: Profile cylinder | B75: C12 UPPER | C75: Y | D75: 12 | E75: 11.9 | F75: 11.9 | H75: =IF(COUNT(E75:G75)=0,"",AVERAGE(E75:G75)) | I75: =IF(H75="","",H75-D75) | J75: =IF(I75="","",ABS(I75)) | K75: =IF(I75="","",I75/D75) | L75: Diameter at UPPER plane: 12 mm above base top, printer Y direction.

Sheet Sample 3
A1: D&L PQ-01 v1.2 - Dimensional Qualification Record
A2: Blue text = user input. Black = calculated. All dimensions in mm. Repeat readings are reseated measurements at the same prescribed plane.
A4: Sample ID | B4: PQ01-H2D-02 | D4: Printer | E4: Bambu Lab H2D | G4: Nozzle diameter (mm) | H4: 0.2 | J4: Layer height (mm) | K4: 0.2
A6: Material / filament | B6: PLA | D6: Slicer / profile | E6: Bambu | G6: Nozzle temp (C) | H6: 220 | J6: Bed temp (C) | K6: 55
A8: Date | B8: 46316
A10: MEASUREMENT CONTROL: Standard pins and R20 are measured at the defined MID plane (5.0 mm above the base top). For C12 use the LOWER/MID/UPPER planes shown in the guide. Do not mix measurement heights between repeats.
A12: Group | B12: Feature ID | C12: Axis / metric | D12: Nominal | E12: Reading 1 | F12: Reading 2 | G12: Reading 3 | H12: Mean measured | I12: Error | J12: Abs error | K12: Error % | L12: Notes
A13: Overall | B13: Overall X | C13: X | D13: 140 | E13: 139.71 | F13: 139.75 | H13: =IF(COUNT(E13:G13)=0,"",AVERAGE(E13:G13)) | I13: =IF(H13="","",H13-D13) | J13: =IF(I13="","",ABS(I13)) | K13: =IF(I13="","",I13/D13) | L13: External jaws across straight left/right outer faces; avoid rounded corners.
A14: Overall | B14: Overall Y | C14: Y | D14: 90 | E14: 89.78 | F14: 89.8 | H14: =IF(COUNT(E14:G14)=0,"",AVERAGE(E14:G14)) | I14: =IF(H14="","",H14-D14) | J14: =IF(I14="","",ABS(I14)) | K14: =IF(I14="","",I14/D14) | L14: External jaws across straight front/rear outer faces; avoid rounded corners.
A15: Overall | B15: Base thickness | C15: Z | D15: 3 | E15: 3.01 | F15: 3 | H15: =IF(COUNT(E15:G15)=0,"",AVERAGE(E15:G15)) | I15: =IF(H15="","",H15-D15) | J15: =IF(I15="","",ABS(I15)) | K15: =IF(I15="","",I15/D15) | L15: Underside to base top on unobstructed plate area.
A16: Holes | B16: H2 | C16: X | D16: 2 | E16: 1.72 | F16: 1.72 | H16: =IF(COUNT(E16:G16)=0,"",AVERAGE(E16:G16)) | I16: =IF(H16="","",H16-D16) | J16: =IF(I16="","",ABS(I16)) | K16: =IF(I16="","",I16/D16) | L16: Internal diameter measured in printer X direction. Indicative with standard caliper internal jaws; pin gauges preferred.
A17: Holes | B17: H2 | C17: Y | D17: 2 | E17: 1.78 | F17: 1.78 | H17: =IF(COUNT(E17:G17)=0,"",AVERAGE(E17:G17)) | I17: =IF(H17="","",H17-D17) | J17: =IF(I17="","",ABS(I17)) | K17: =IF(I17="","",I17/D17) | L17: Internal diameter measured in printer Y direction. Indicative with standard caliper internal jaws; pin gauges preferred.
A18: Holes | B18: H2.5 | C18: X | D18: 2.5 | E18: 2.33 | F18: 2.32 | H18: =IF(COUNT(E18:G18)=0,"",AVERAGE(E18:G18)) | I18: =IF(H18="","",H18-D18) | J18: =IF(I18="","",ABS(I18)) | K18: =IF(I18="","",I18/D18) | L18: Internal diameter measured in printer X direction. Indicative with standard caliper internal jaws; pin gauges preferred.
A19: Holes | B19: H2.5 | C19: Y | D19: 2.5 | E19: 2.28 | F19: 2.3 | H19: =IF(COUNT(E19:G19)=0,"",AVERAGE(E19:G19)) | I19: =IF(H19="","",H19-D19) | J19: =IF(I19="","",ABS(I19)) | K19: =IF(I19="","",I19/D19) | L19: Internal diameter measured in printer Y direction. Indicative with standard caliper internal jaws; pin gauges preferred.
A20: Holes | B20: H3 | C20: X | D20: 3 | E20: 2.86 | F20: 2.85 | H20: =IF(COUNT(E20:G20)=0,"",AVERAGE(E20:G20)) | I20: =IF(H20="","",H20-D20) | J20: =IF(I20="","",ABS(I20)) | K20: =IF(I20="","",I20/D20) | L20: Internal diameter measured in printer X direction. Indicative with standard caliper internal jaws; pin gauges preferred.
A21: Holes | B21: H3 | C21: Y | D21: 3 | E21: 2.86 | F21: 2.86 | H21: =IF(COUNT(E21:G21)=0,"",AVERAGE(E21:G21)) | I21: =IF(H21="","",H21-D21) | J21: =IF(I21="","",ABS(I21)) | K21: =IF(I21="","",I21/D21) | L21: Internal diameter measured in printer Y direction. Indicative with standard caliper internal jaws; pin gauges preferred.
A22: Holes | B22: H3.5 | C22: X | D22: 3.5 | E22: 3.34 | F22: 3.33 | H22: =IF(COUNT(E22:G22)=0,"",AVERAGE(E22:G22)) | I22: =IF(H22="","",H22-D22) | J22: =IF(I22="","",ABS(I22)) | K22: =IF(I22="","",I22/D22) | L22: Internal diameter measured in printer X direction. Indicative with standard caliper internal jaws; pin gauges preferred.
A23: Holes | B23: H3.5 | C23: Y | D23: 3.5 | E23: 3.37 | F23: 3.37 | H23: =IF(COUNT(E23:G23)=0,"",AVERAGE(E23:G23)) | I23: =IF(H23="","",H23-D23) | J23: =IF(I23="","",ABS(I23)) | K23: =IF(I23="","",I23/D23) | L23: Internal diameter measured in printer Y direction. Indicative with standard caliper internal jaws; pin gauges preferred.
A24: Holes | B24: H4 | C24: X | D24: 4 | E24: 3.91 | F24: 3.91 | H24: =IF(COUNT(E24:G24)=0,"",AVERAGE(E24:G24)) | I24: =IF(H24="","",H24-D24) | J24: =IF(I24="","",ABS(I24)) | K24: =IF(I24="","",I24/D24) | L24: Internal diameter measured in printer X direction.
... A62: Reference | B62: LB | C62: X | D62: 40 | E62: 39.86 | F62: 39.9 | H62: =IF(COUNT(E62:G62)=0,"",AVERAGE(E62:G62)) | I62: =IF(H62="","",H62-D62) | J62: =IF(I62="","",ABS(I62)) | K62: =IF(I62="","",I62/D62) | L62: Long-span bar X length across end faces.
A63: Z Edge | B63: Z1 | C63: Height | D63: 1 | E63: 4 | F63: 4 | H63: =IF(COUNT(E63:G63)=0,"",AVERAGE(E63:G63)-$H$15) | I63: =IF(H63="","",H63-D63) | J63: =IF(I63="","",ABS(I63)) | K63: =IF(I63="","",I63/D63) | L63: Enter TOTAL thickness from coupon underside to pad top; workbook subtracts measured base thickness.
A64: Z Edge | B64: Z2 | C64: Height | D64: 2 | E64: 5 | F64: 5 | H64: =IF(COUNT(E64:G64)=0,"",AVERAGE(E64:G64)-$H$15) | I64: =IF(H64="","",H64-D64) | J64: =IF(I64="","",ABS(I64)) | K64: =IF(I64="","",I64/D64) | L64: Enter TOTAL thickness from coupon underside to pad top; workbook subtracts measured base thickness.
A65: Z Edge | B65: Z4 | C65: Height | D65: 4 | E65: 6.99 | F65: 7 | H65: =IF(COUNT(E65:G65)=0,"",AVERAGE(E65:G65)-$H$15) | I65: =IF(H65="","",H65-D65) | J65: =IF(I65="","",ABS(I65)) | K65: =IF(I65="","",I65/D65) | L65: Enter TOTAL thickness from coupon underside to pad top; workbook subtracts measured base thickness.
A66: Z Edge | B66: Z6 | C66: Height | D66: 6 | E66: 8.98 | F66: 9 | H66: =IF(COUNT(E66:G66)=0,"",AVERAGE(E66:G66)-$H$15) | I66: =IF(H66="","",H66-D66) | J66: =IF(I66="","",ABS(I66)) | K66: =IF(I66="","",I66/D66) | L66: Enter TOTAL thickness from coupon underside to pad top; workbook subtracts measured base thickness.
A67: Z Edge | B67: Z10 | C67: Height | D67: 10 | E67: 12.98 | F67: 12.99 | H67: =IF(COUNT(E67:G67)=0,"",AVERAGE(E67:G67)-$H$15) | I67: =IF(H67="","",H67-D67) | J67: =IF(I67="","",ABS(I67)) | K67: =IF(I67="","",I67/D67) | L67: Enter TOTAL thickness from coupon underside to pad top; workbook subtracts measured base thickness.
A68: Round boss | B68: R20 | C68: X | D68: 20 | E68: 19.81 | F68: 19.83 | H68: =IF(COUNT(E68:G68)=0,"",AVERAGE(E68:G68)) | I68: =IF(H68="","",H68-D68) | J68: =IF(I68="","",ABS(I68)) | K68: =IF(I68="","",I68/D68) | L68: Diameter at MID plane: 5.0 mm above base top, printer X direction.
A69: Round boss | B69: R20 | C69: Y | D69: 20 | E69: 19.86 | F69: 19.9 | H69: =IF(COUNT(E69:G69)=0,"",AVERAGE(E69:G69)) | I69: =IF(H69="","",H69-D69) | J69: =IF(I69="","",ABS(I69)) | K69: =IF(I69="","",I69/D69) | L69: Diameter at MID plane: 5.0 mm above base top, printer Y direction.
A70: Profile cylinder | B70: C12 LOWER | C70: X | D70: 12 | E70: 11.84 | F70: 11.85 | H70: =IF(COUNT(E70:G70)=0,"",AVERAGE(E70:G70)) | I70: =IF(H70="","",H70-D70) | J70: =IF(I70="","",ABS(I70)) | K70: =IF(I70="","",I70/D70) | L70: Diameter at LOWER plane: 3 mm above base top, printer X direction.
A71: Profile cylinder | B71: C12 LOWER | C71: Y | D71: 12 | E71: 11.87 | F71: 11.87 | H71: =IF(COUNT(E71:G71)=0,"",AVERAGE(E71:G71)) | I71: =IF(H71="","",H71-D71) | J71: =IF(I71="","",ABS(I71)) | K71: =IF(I71="","",I71/D71) | L71: Diameter at LOWER plane: 3 mm above base top, printer Y direction.
A72: Profile cylinder | B72: C12 MID | C72: X | D72: 12 | E72: 11.84 | F72: 11.85 | H72: =IF(COUNT(E72:G72)=0,"",AVERAGE(E72:G72)) | I72: =IF(H72="","",H72-D72) | J72: =IF(I72="","",ABS(I72)) | K72: =IF(I72="","",I72/D72) | L72: Diameter at MID plane: 7.5 mm above base top, printer X direction.
A73: Profile cylinder | B73: C12 MID | C73: Y | D73: 12 | E73: 11.87 | F73: 11.87 | H73: =IF(COUNT(E73:G73)=0,"",AVERAGE(E73:G73)) | I73: =IF(H73="","",H73-D73) | J73: =IF(I73="","",ABS(I73)) | K73: =IF(I73="","",I73/D73) | L73: Diameter at MID plane: 7.5 mm above base top, printer Y direction.
A74: Profile cylinder | B74: C12 UPPER | C74: X | D74: 12 | E74: 11.87 | F74: 11.88 | H74: =IF(COUNT(E74:G74)=0,"",AVERAGE(E74:G74)) | I74: =IF(H74="","",H74-D74) | J74: =IF(I74="","",ABS(I74)) | K74: =IF(I74="","",I74/D74) | L74: Diameter at UPPER plane: 12 mm above base top, printer X direction.
A75: Profile cylinder | B75: C12 UPPER | C75: Y | D75: 12 | E75: 11.97 | F75: 11.96 | H75: =IF(COUNT(E75:G75)=0,"",AVERAGE(E75:G75)) | I75: =IF(H75="","",H75-D75) | J75: =IF(I75="","",ABS(I75)) | K75: =IF(I75="","",I75/D75) | L75: Diameter at UPPER plane: 12 mm above base top, printer Y direction.

Sheet Instructions
A1: PQ-01 v1.2 Workbook Instructions
A3: Purpose | B3: Record repeatable dimensional measurements from PQ-01 v1.2 and compare the X1C 0.4 mm and H2D 0.4 mm baseline configurations.
A4: Blue cells | B4: User-entered metadata and measurements.
A5: Repeat readings | B5: Reading 1/2/3 are independent reseatings at the same prescribed measurement plane; they are not top/mid/bottom readings.
A6: Standard pins | B6: P2-P10 are 10 mm high. Measure X and Y at the MID plane, 5.0 mm above the base top.
A7: Round boss | B7: R20 is 10 mm high. Measure X and Y at the MID plane, 5.0 mm above the base top.
A8: Profile cylinder | B8: C12 is a nominal 12 mm x 15 mm cylinder. Measure X/Y at LOWER 3.0 mm, MID 7.5 mm and UPPER 12.0 mm above the base top.
A9: Small holes | B9: H2-H3.5 measurements with standard caliper internal jaws are indicative. Gauge pins are preferred where traceable bore measurement is required.
A10: Z edge pads | B10: Enter total thickness from coupon underside to pad top. Workbook subtracts measured base thickness.
A11: Error | B11: Mean measured minus nominal. Negative = undersize; positive = oversize.
A12: Comparison summary | B12: Use group MAE together with C12 axial variation to distinguish general scale error from geometry- and height-dependent process behaviour.
